BEGIN:VCALENDAR
VERSION:2.0
PRODID:-//MGconnect - ECPv6.15.20//NONSGML v1.0//EN
CALSCALE:GREGORIAN
METHOD:PUBLISH
X-WR-CALNAME:MGconnect
X-ORIGINAL-URL:https://mgconnect.de
X-WR-CALDESC:Veranstaltungen für MGconnect
REFRESH-INTERVAL;VALUE=DURATION:PT1H
X-Robots-Tag:noindex
X-PUBLISHED-TTL:PT1H
BEGIN:VTIMEZONE
TZID:Europe/Berlin
BEGIN:DAYLIGHT
TZOFFSETFROM:+0100
TZOFFSETTO:+0200
TZNAME:CEST
DTSTART:20250330T010000
END:DAYLIGHT
BEGIN:STANDARD
TZOFFSETFROM:+0200
TZOFFSETTO:+0100
TZNAME:CET
DTSTART:20251026T010000
END:STANDARD
BEGIN:DAYLIGHT
TZOFFSETFROM:+0100
TZOFFSETTO:+0200
TZNAME:CEST
DTSTART:20260329T010000
END:DAYLIGHT
BEGIN:STANDARD
TZOFFSETFROM:+0200
TZOFFSETTO:+0100
TZNAME:CET
DTSTART:20261025T010000
END:STANDARD
BEGIN:DAYLIGHT
TZOFFSETFROM:+0100
TZOFFSETTO:+0200
TZNAME:CEST
DTSTART:20270328T010000
END:DAYLIGHT
BEGIN:STANDARD
TZOFFSETFROM:+0200
TZOFFSETTO:+0100
TZNAME:CET
DTSTART:20271031T010000
END:STANDARD
END:VTIMEZONE
BEGIN:VEVENT
DTSTART;TZID=Europe/Berlin:20260330T080000
DTEND;TZID=Europe/Berlin:20260402T150000
DTSTAMP:20260423T050453
CREATED:20250915T111117Z
LAST-MODIFIED:20260316T164712Z
UID:1668-1774857600-1775142000@mgconnect.de
SUMMARY:CodeCamp: Mönchengladbach
DESCRIPTION:CodeCamp: Mönchengladbach\n\nErlebe die Welt der Webentwicklung im CodeCamp! \nBist du neugierig auf die Welt der Programmierung? Möchtest du lernen\, wie man coole Spiele und Web Apps erstellt? Dann haben wir genau das Richtige für dich! \nIn der Ferienwoche vom 30.03. – 02.04. veranstalten wir im CodeCamp ein spannendes Programmierprojekt\, bei dem du lernst\, wie man einfache Spiele und Web Apps mit HTML und JavaScript entwickelt. Aber das ist noch nicht alles – wir bieten dir auch spannende Einblicke in Virtual Reality und Cybersecurity! Du brauchst keine Vorkenntnisse – nur Interesse und Neugier! \nUnser Workshop richtet sich an alle Jugendlichen ab 13 Jahren\, die Lust haben\, in die Welt der Webentwicklung einzutauchen. Gemeinsam werden wir die Grundlagen des Programmierens entdecken und Schritt für Schritt unsere eigenen Projekte erschaffen. \nUnd das Beste daran: Die Teilnahme ist kostenlos! Also worauf wartest du noch? Melde dich einfach per E-Mail an:info(at)zdi-mg.de Betreff: CodeCamp HSNR \nWir freuen uns auf dich und eine aufregende Woche voller Programmierabenteuer! \nWann & Wo:\nOsterferien 2025 – Campus Mönchengladbach\nMontag\, 30.03.2026 bis Donnerstag\, 02.04.2026\n09:00 – 15:00 Uhr (Donnerstag 09:00-13:00 Uhr)\nRaum W 205 (DigiLab)\, Webschulstraße 41-43\, 41065 Mönchengladbach \nVoraussetzungen:\nMindestalter: 13 Jahre\nMax. 20 Teilnehmer:innen \nAnmeldungen: info(at)zdi-mg.de \n\n 
URL:https://mgconnect.de/event/codecamp-moenchengladbach/
LOCATION:DigiLab der Hochschule Niederrhein\, Webstuhlstraße 41- 43\, Mönchengladbach\, 41065\, Germany
ATTACH;FMTTYPE=image/jpeg:https://mgconnect.de/wp-content/uploads/2025/09/csm_Coding_hsnr_MG_8dac774eb4.jpg
ORGANIZER;CN="zdi-Community M%C3%B6nchengladbach":MAILTO:info@zdi-mg.de
END:VEVENT
BEGIN:VEVENT
DTSTART;TZID=Europe/Berlin:20260330T100000
DTEND;TZID=Europe/Berlin:20260402T150000
DTSTAMP:20260423T050453
CREATED:20250320T100441Z
LAST-MODIFIED:20260316T171423Z
UID:1524-1774864800-1775142000@mgconnect.de
SUMMARY:”Lego Battle & Hack” Ferien-Workshop
DESCRIPTION:Wer hat nicht schon einmal mit Lego gespielt? Mit „Lego Hacks & Battles“ bringen wir das Lego Bauen und Wettbewerbe auf ein völlig neues Level. \nÄhnlich wie bei den „Battle Bots“-Wettbewerben haben die Teilnehmer*innen die Möglichkeit\, ihre eigenen Fahrzeuge zu gestalten und die ultimative Battle-Maschine zu konstruieren. Zusätzlich zur Konstruktion besteht die Möglichkeit Programmierungen in das Fahrzeug zu integrieren\, um Zusatzfunktionen für den Battle Bot zu implementieren. \nSo können beispielsweise zusätzliche Motoren mit speziellen Funktionen aktiviert werden\, wenn sich ein anderes Fahrzeug nähert. \nNeben dem Battle Bot Wettbewerb können zudem in kleineren Wettbewerben weitere Punkte erspielt werden. Welche Art von Battle das sein könnte\, entscheiden die Teilnehmer*innen selbst. \nWeitere Informationen über https://team-craft.de/ferien-workshop/ \nDer Kurs wird gefördert durch die zdi-Community Mönchengladbach und richtet sich an Schüler und Schülerinnen ab der 7.Klasse und ist kostenfrei. \nAnmeldungen per Mail an info@Team-Craft.de \nZeitraum: 30.3. – 2.4.2026\nUhrzeit: täglich von 10:00 -15:00 Uhr\nOrt: Team-Craft – Sandradstr. 12 in 41061 Mönchengladbach\nPreis: kostenlos\nAlter: ab 12 Jahren
URL:https://mgconnect.de/event/lego-battle-hack-ferien-workshop/
LOCATION:Team-Craft\, Sandradstraße 12\, Mönchengladbach\, NRW\, 41061\, Germany
ATTACH;FMTTYPE=image/jpeg:https://mgconnect.de/wp-content/uploads/2025/01/mgconnect-news-spannende-osterferienkurse-mit-der-zdi-community.jpg
ORGANIZER;CN="zdi-Community M%C3%B6nchengladbach":MAILTO:info@zdi-mg.de
END:VEVENT
BEGIN:VEVENT
DTSTART;TZID=Europe/Berlin:20260330T100000
DTEND;TZID=Europe/Berlin:20260402T150000
DTSTAMP:20260423T050453
CREATED:20260316T193207Z
LAST-MODIFIED:20260316T193207Z
UID:1856-1774864800-1775142000@mgconnect.de
SUMMARY:Grundlagen des Game Designs und der visuellen Programmierung
DESCRIPTION:Game-Design für Teilnehmende zwischen 12 und 20 Jahren. \nIm Rahmen des Kurses mit Trainer Moritz lernen Jugendliche die Grundlagen des Game Designs und der visuellen Programmierung\, indem sie mit der Software Game Builder Garage auf der Nintendo Switch eigene Videospiele entwickeln. Ziel ist es\, Kreativität\, logisches Denken und Teamarbeit zu fördern und einen praxisnahen Einstieg in die Welt der Spieleentwicklung zu bieten. \nInhalte  \nWas macht den Kurs so besonders? \n\nGrundlagen des Game Designs: Spielmechaniken\, Leveldesign\, Storytelling und Benutzerführung\nEinführung in die visuelle Programmierung mit Nodons\nProblemlösung\, logisches Denken und iterative Entwicklung\nKreative Gestaltung von Grafiken\, Sounds und Musik\nTeamarbeit und Präsentation der eigenen Spiele\n\n  \nBesonderheiten \n\nKeine Vorkenntnisse in Programmierung erforderlich – der Einstieg erfolgt spielerisch und intuitiv.\nFörderung von Kreativität und Selbstbewusstsein durch das eigenständige Entwickeln und Präsentieren von Spielen.\nMöglichkeit\, die eigenen Spiele mit Anderen zu teilen\, Feedback zu erhalten und gemeinsam weiterzuentwickeln.\n\n  \nJetzt für diese Veranstaltung anmelden. \n\nAltersempfehlung \n13 bis 16 Jahre\, 16 bis 18 Jahre\, 18 bis 23 Jahre\nVorkenntnisse \nKeine Vorkenntnisse notwendig\nVeranstaltungsart\nInteraktive Präsenzveranstaltung mit Praxisübungen\nKursdauer\n4 Tage\, je 5 Stunden\nTeilnehmerzahl\nMaximal 15 Teilnehmer\nZertifikat\nAlle Teilnehmer erhalten eine Teilnahmebescheinigung\nKosten \nDer Kurs ist kostenlos\nStart \nDer nächste Kurs findet vom 30.03.26 bis 02.04.26 in den Osterferien\, von 10-15 Uhr\, statt.
URL:https://mgconnect.de/event/grundlagen-des-game-designs-und-der-visuellen-programmierung/
LOCATION:Core Gamer Treff\, Wilhelm-Schiffer-Str. 57\, Mönchengladbach\, 41239\, Germany
ATTACH;FMTTYPE=image/png:https://mgconnect.de/wp-content/uploads/2024/07/mgconnect-netzwerk-skillzup-mg.png
ORGANIZER;CN="skillzUP":MAILTO:skillzup@wfmg.de
END:VEVENT
BEGIN:VEVENT
DTSTART;TZID=Europe/Berlin:20260401T123000
DTEND;TZID=Europe/Berlin:20260402T163000
DTSTAMP:20260423T050453
CREATED:20260316T183928Z
LAST-MODIFIED:20260316T184312Z
UID:1842-1775046600-1775147400@mgconnect.de
SUMMARY:Scratch-Kurs für Fortgeschrittene
DESCRIPTION:In diesem Fortgeschrittenenkurs kannst du deine Scratch-Künste auf das nächste Level bringen! Du lernst neue spannende Programmiertricks kennen\, zum Beispiel wie man mit Variablen arbeitet\, Figuren auf Befehle reagieren lässt oder mit Schleifen coole Bewegungen und Abläufe erstellt. \nGemeinsam entwickeln wir nicht nur bunte Animationen\, sondern auch erste eigene Spiele. Du kannst Figuren steuern\, Punkte zählen lassen und kleine Herausforderungen einbauen. Dabei wirst du immer besser darin\, Probleme zu lösen und deine eigenen Ideen Schritt für Schritt umzusetzen. \nAm Ende des Kurses hast du mehrere richtig tolle Projekte gestaltet und ein gutes Gefühl dafür bekommen\, wie man mit Scratch kreativ programmiert.\nDieser Kurs wird finanziell durch die zdi-Community unterstützt. \n\n\n01.04.2026 \n\n\n12:30 – 16:30 Uhr \n\n\nBlumenberger Str. 143-145\, POSEIDON \n\n\n\n\n02.04.2026 \n\n\n12:30 – 16:30 Uhr \n\n\nBlumenberger Str. 143-145\, POSEIDON \nAnmeldung über die Seite der JuniorUni MG
URL:https://mgconnect.de/event/scratch-kurs-fuer-fortgeschrittene/
LOCATION:JuniorUni Mönchengladbach\, Blumenberger Str. 143-145\, Mönchengladbach\, NRW\, 41061
ATTACH;FMTTYPE=image/png:https://mgconnect.de/wp-content/uploads/2025/06/Junior-Uni-Logo-1.png
ORGANIZER;CN="JuniorUniversit%C3%A4t M%C3%B6nchengladbach gGmbH":MAILTO:info[at]junioruni-mg[dot]de
END:VEVENT
BEGIN:VEVENT
DTSTART;TZID=Europe/Berlin:20260401T123000
DTEND;TZID=Europe/Berlin:20260402T163000
DTSTAMP:20260423T050453
CREATED:20260316T184117Z
LAST-MODIFIED:20260316T184759Z
UID:1844-1775046600-1775147400@mgconnect.de
SUMMARY:Kreativ mit Papier: Erschaffe dein eigenes 3D-Kunstwerk
DESCRIPTION:Entdecke deine kreative Seite und stelle dich spannenden Herausforderungen! In diesem Kurs lernst du\, wie du aus einfachem Papier beeindruckende 3D-Modelle erschaffen kannst. Mit etwas Geschick und Fantasie wirst du dein eigenes Design entwerfen\, ausschneiden\, zusammenkleben und so dein eigenes Kunstwerk gestalten. Klingt das aufregend? Dann mach mit und bring deine Ideen zum Leben!\nDieser Kurs wird finanziell durch die zdi-Community unterstützt. \n\n\n01.04.2026 \n\n\n12:30 – 16:30 Uhr \n\n\nBlumenberger Str. 143-145\, ATHENE \n\n\n\n\n02.04.2026 \n\n\n12:30 – 16:30 Uhr \n\n\nBlumenberger Str. 143-145\, ATHENE
URL:https://mgconnect.de/event/kreativ-mit-papier-erschaffe-dein-eigenes-3d-kunstwerk/
LOCATION:JuniorUni Mönchengladbach\, Blumenberger Str. 143-145\, Mönchengladbach\, NRW\, 41061
ATTACH;FMTTYPE=image/png:https://mgconnect.de/wp-content/uploads/2025/06/Junior-Uni-Logo-1.png
ORGANIZER;CN="JuniorUniversit%C3%A4t M%C3%B6nchengladbach gGmbH":MAILTO:info[at]junioruni-mg[dot]de
END:VEVENT
END:VCALENDAR